BEGIN:VCALENDAR
VERSION:2.0
PRODID:-//stlfoodworks.com - ECPv6.15.20//NONSGML v1.0//EN
CALSCALE:GREGORIAN
METHOD:PUBLISH
X-ORIGINAL-URL:https://stlfoodworks.com
X-WR-CALDESC:Events for stlfoodworks.com
REFRESH-INTERVAL;VALUE=DURATION:PT1H
X-Robots-Tag:noindex
X-PUBLISHED-TTL:PT1H
BEGIN:VTIMEZONE
TZID:America/Chicago
BEGIN:DAYLIGHT
TZOFFSETFROM:-0600
TZOFFSETTO:-0500
TZNAME:CDT
DTSTART:20180311T080000
END:DAYLIGHT
BEGIN:STANDARD
TZOFFSETFROM:-0500
TZOFFSETTO:-0600
TZNAME:CST
DTSTART:20181104T070000
END:STANDARD
BEGIN:DAYLIGHT
TZOFFSETFROM:-0600
TZOFFSETTO:-0500
TZNAME:CDT
DTSTART:20190310T080000
END:DAYLIGHT
BEGIN:STANDARD
TZOFFSETFROM:-0500
TZOFFSETTO:-0600
TZNAME:CST
DTSTART:20191103T070000
END:STANDARD
BEGIN:DAYLIGHT
TZOFFSETFROM:-0600
TZOFFSETTO:-0500
TZNAME:CDT
DTSTART:20200308T080000
END:DAYLIGHT
BEGIN:STANDARD
TZOFFSETFROM:-0500
TZOFFSETTO:-0600
TZNAME:CST
DTSTART:20201101T070000
END:STANDARD
END:VTIMEZONE
BEGIN:VEVENT
DTSTART;TZID=America/Chicago:20190827T080000
DTEND;TZID=America/Chicago:20190827T100000
DTSTAMP:20260423T103549
CREATED:20190822T043031Z
LAST-MODIFIED:20190822T043239Z
UID:229-1566892800-1566900000@stlfoodworks.com
SUMMARY:STL FOODWORKS OPEN HOUSE
DESCRIPTION:STL Foodworks invites you to an OPEN HOUSE to celebrate the opening of our new culinary incubator! \nCoffee and breakfast bites will be served. Street parking is available on N Sarah St. and Westminster St. \nPlease RSVP to kaitlynn@stlfoodworks.com
URL:https://stlfoodworks.com/calendar/open-house/
LOCATION:STL Foodworks\, 408 N Sarah St.\, St. Louis\, 63108\, United States
ATTACH;FMTTYPE=image/jpeg:https://stlfoodworks.com/wp-content/uploads/2019/08/STLFoodworksFront.jpg
ORGANIZER;CN="STL Foodworks":MAILTO:kaitlynn@stlfoodworks.com
END:VEVENT
END:VCALENDAR